BEGIN:VCALENDAR
VERSION:2.0
PRODID:-//Down Syndrome Association of Brevard - ECPv6.15.20//NONSGML v1.0//EN
CALSCALE:GREGORIAN
METHOD:PUBLISH
X-ORIGINAL-URL:https://dsabrevard.org
X-WR-CALDESC:Events for Down Syndrome Association of Brevard
REFRESH-INTERVAL;VALUE=DURATION:PT1H
X-Robots-Tag:noindex
X-PUBLISHED-TTL:PT1H
BEGIN:VTIMEZONE
TZID:America/New_York
BEGIN:DAYLIGHT
TZOFFSETFROM:-0500
TZOFFSETTO:-0400
TZNAME:EDT
DTSTART:20260308T070000
END:DAYLIGHT
BEGIN:STANDARD
TZOFFSETFROM:-0400
TZOFFSETTO:-0500
TZNAME:EST
DTSTART:20261101T060000
END:STANDARD
BEGIN:DAYLIGHT
TZOFFSETFROM:-0500
TZOFFSETTO:-0400
TZNAME:EDT
DTSTART:20270314T070000
END:DAYLIGHT
BEGIN:STANDARD
TZOFFSETFROM:-0400
TZOFFSETTO:-0500
TZNAME:EST
DTSTART:20271107T060000
END:STANDARD
BEGIN:DAYLIGHT
TZOFFSETFROM:-0500
TZOFFSETTO:-0400
TZNAME:EDT
DTSTART:20280312T070000
END:DAYLIGHT
BEGIN:STANDARD
TZOFFSETFROM:-0400
TZOFFSETTO:-0500
TZNAME:EST
DTSTART:20281105T060000
END:STANDARD
END:VTIMEZONE
BEGIN:VEVENT
DTSTART;TZID=America/New_York:20270105T174500
DTEND;TZID=America/New_York:20270105T184500
DTSTAMP:20260426T001016
CREATED:20260217T211527Z
LAST-MODIFIED:20260312T183455Z
UID:10003890-1799171100-1799174700@dsabrevard.org
SUMMARY:Fitness Class 15+ (P.M)
DESCRIPTION:
URL:https://dsabrevard.org/event/fitness-class/2027-01-05/
LOCATION:Fitness Class 15+\, 7245 Waelti Dr Suite 3-7\, Melbourne\, FL\, 32940\, United States
END:VEVENT
BEGIN:VEVENT
DTSTART;TZID=America/New_York:20270112T174500
DTEND;TZID=America/New_York:20270112T184500
DTSTAMP:20260426T001016
CREATED:20260217T211527Z
LAST-MODIFIED:20260312T183455Z
UID:10003891-1799775900-1799779500@dsabrevard.org
SUMMARY:Fitness Class 15+ (P.M)
DESCRIPTION:
URL:https://dsabrevard.org/event/fitness-class/2027-01-12/
LOCATION:Fitness Class 15+\, 7245 Waelti Dr Suite 3-7\, Melbourne\, FL\, 32940\, United States
END:VEVENT
BEGIN:VEVENT
DTSTART;TZID=America/New_York:20270119T174500
DTEND;TZID=America/New_York:20270119T184500
DTSTAMP:20260426T001016
CREATED:20260217T211527Z
LAST-MODIFIED:20260312T183455Z
UID:10003892-1800380700-1800384300@dsabrevard.org
SUMMARY:Fitness Class 15+ (P.M)
DESCRIPTION:
URL:https://dsabrevard.org/event/fitness-class/2027-01-19/
LOCATION:Fitness Class 15+\, 7245 Waelti Dr Suite 3-7\, Melbourne\, FL\, 32940\, United States
END:VEVENT
BEGIN:VEVENT
DTSTART;TZID=America/New_York:20270126T174500
DTEND;TZID=America/New_York:20270126T184500
DTSTAMP:20260426T001016
CREATED:20260217T211527Z
LAST-MODIFIED:20260312T183455Z
UID:10003893-1800985500-1800989100@dsabrevard.org
SUMMARY:Fitness Class 15+ (P.M)
DESCRIPTION:
URL:https://dsabrevard.org/event/fitness-class/2027-01-26/
LOCATION:Fitness Class 15+\, 7245 Waelti Dr Suite 3-7\, Melbourne\, FL\, 32940\, United States
END:VEVENT
BEGIN:VEVENT
DTSTART;TZID=America/New_York:20270202T174500
DTEND;TZID=America/New_York:20270202T184500
DTSTAMP:20260426T001016
CREATED:20260217T211527Z
LAST-MODIFIED:20260312T183455Z
UID:10003894-1801590300-1801593900@dsabrevard.org
SUMMARY:Fitness Class 15+ (P.M)
DESCRIPTION:
URL:https://dsabrevard.org/event/fitness-class/2027-02-02/
LOCATION:Fitness Class 15+\, 7245 Waelti Dr Suite 3-7\, Melbourne\, FL\, 32940\, United States
END:VEVENT
BEGIN:VEVENT
DTSTART;TZID=America/New_York:20270209T174500
DTEND;TZID=America/New_York:20270209T184500
DTSTAMP:20260426T001016
CREATED:20260217T211527Z
LAST-MODIFIED:20260312T183455Z
UID:10003895-1802195100-1802198700@dsabrevard.org
SUMMARY:Fitness Class 15+ (P.M)
DESCRIPTION:
URL:https://dsabrevard.org/event/fitness-class/2027-02-09/
LOCATION:Fitness Class 15+\, 7245 Waelti Dr Suite 3-7\, Melbourne\, FL\, 32940\, United States
END:VEVENT
BEGIN:VEVENT
DTSTART;TZID=America/New_York:20270216T174500
DTEND;TZID=America/New_York:20270216T184500
DTSTAMP:20260426T001016
CREATED:20260217T211527Z
LAST-MODIFIED:20260312T183455Z
UID:10003896-1802799900-1802803500@dsabrevard.org
SUMMARY:Fitness Class 15+ (P.M)
DESCRIPTION:
URL:https://dsabrevard.org/event/fitness-class/2027-02-16/
LOCATION:Fitness Class 15+\, 7245 Waelti Dr Suite 3-7\, Melbourne\, FL\, 32940\, United States
END:VEVENT
BEGIN:VEVENT
DTSTART;TZID=America/New_York:20270223T174500
DTEND;TZID=America/New_York:20270223T184500
DTSTAMP:20260426T001016
CREATED:20260217T211527Z
LAST-MODIFIED:20260312T183455Z
UID:10003897-1803404700-1803408300@dsabrevard.org
SUMMARY:Fitness Class 15+ (P.M)
DESCRIPTION:
URL:https://dsabrevard.org/event/fitness-class/2027-02-23/
LOCATION:Fitness Class 15+\, 7245 Waelti Dr Suite 3-7\, Melbourne\, FL\, 32940\, United States
END:VEVENT
BEGIN:VEVENT
DTSTART;TZID=America/New_York:20270302T174500
DTEND;TZID=America/New_York:20270302T184500
DTSTAMP:20260426T001016
CREATED:20260217T211527Z
LAST-MODIFIED:20260312T183455Z
UID:10003898-1804009500-1804013100@dsabrevard.org
SUMMARY:Fitness Class 15+ (P.M)
DESCRIPTION:
URL:https://dsabrevard.org/event/fitness-class/2027-03-02/
LOCATION:Fitness Class 15+\, 7245 Waelti Dr Suite 3-7\, Melbourne\, FL\, 32940\, United States
END:VEVENT
BEGIN:VEVENT
DTSTART;TZID=America/New_York:20270309T174500
DTEND;TZID=America/New_York:20270309T184500
DTSTAMP:20260426T001016
CREATED:20260217T211527Z
LAST-MODIFIED:20260312T183455Z
UID:10003899-1804614300-1804617900@dsabrevard.org
SUMMARY:Fitness Class 15+ (P.M)
DESCRIPTION:
URL:https://dsabrevard.org/event/fitness-class/2027-03-09/
LOCATION:Fitness Class 15+\, 7245 Waelti Dr Suite 3-7\, Melbourne\, FL\, 32940\, United States
END:VEVENT
BEGIN:VEVENT
DTSTART;TZID=America/New_York:20270316T174500
DTEND;TZID=America/New_York:20270316T184500
DTSTAMP:20260426T001016
CREATED:20260217T211527Z
LAST-MODIFIED:20260312T183455Z
UID:10003900-1805219100-1805222700@dsabrevard.org
SUMMARY:Fitness Class 15+ (P.M)
DESCRIPTION:
URL:https://dsabrevard.org/event/fitness-class/2027-03-16/
LOCATION:Fitness Class 15+\, 7245 Waelti Dr Suite 3-7\, Melbourne\, FL\, 32940\, United States
END:VEVENT
BEGIN:VEVENT
DTSTART;TZID=America/New_York:20270323T174500
DTEND;TZID=America/New_York:20270323T184500
DTSTAMP:20260426T001016
CREATED:20260217T211527Z
LAST-MODIFIED:20260312T183455Z
UID:10003901-1805823900-1805827500@dsabrevard.org
SUMMARY:Fitness Class 15+ (P.M)
DESCRIPTION:
URL:https://dsabrevard.org/event/fitness-class/2027-03-23/
LOCATION:Fitness Class 15+\, 7245 Waelti Dr Suite 3-7\, Melbourne\, FL\, 32940\, United States
END:VEVENT
BEGIN:VEVENT
DTSTART;TZID=America/New_York:20270330T174500
DTEND;TZID=America/New_York:20270330T184500
DTSTAMP:20260426T001016
CREATED:20260217T211527Z
LAST-MODIFIED:20260312T183455Z
UID:10003902-1806428700-1806432300@dsabrevard.org
SUMMARY:Fitness Class 15+ (P.M)
DESCRIPTION:
URL:https://dsabrevard.org/event/fitness-class/2027-03-30/
LOCATION:Fitness Class 15+\, 7245 Waelti Dr Suite 3-7\, Melbourne\, FL\, 32940\, United States
END:VEVENT
BEGIN:VEVENT
DTSTART;TZID=America/New_York:20270406T174500
DTEND;TZID=America/New_York:20270406T184500
DTSTAMP:20260426T001016
CREATED:20260217T211527Z
LAST-MODIFIED:20260312T183455Z
UID:10003903-1807033500-1807037100@dsabrevard.org
SUMMARY:Fitness Class 15+ (P.M)
DESCRIPTION:
URL:https://dsabrevard.org/event/fitness-class/2027-04-06/
LOCATION:Fitness Class 15+\, 7245 Waelti Dr Suite 3-7\, Melbourne\, FL\, 32940\, United States
END:VEVENT
BEGIN:VEVENT
DTSTART;TZID=America/New_York:20270413T174500
DTEND;TZID=America/New_York:20270413T184500
DTSTAMP:20260426T001017
CREATED:20260217T211527Z
LAST-MODIFIED:20260312T183455Z
UID:10003904-1807638300-1807641900@dsabrevard.org
SUMMARY:Fitness Class 15+ (P.M)
DESCRIPTION:
URL:https://dsabrevard.org/event/fitness-class/2027-04-13/
LOCATION:Fitness Class 15+\, 7245 Waelti Dr Suite 3-7\, Melbourne\, FL\, 32940\, United States
END:VEVENT
BEGIN:VEVENT
DTSTART;TZID=America/New_York:20270420T174500
DTEND;TZID=America/New_York:20270420T184500
DTSTAMP:20260426T001017
CREATED:20260217T211527Z
LAST-MODIFIED:20260312T183455Z
UID:10003905-1808243100-1808246700@dsabrevard.org
SUMMARY:Fitness Class 15+ (P.M)
DESCRIPTION:
URL:https://dsabrevard.org/event/fitness-class/2027-04-20/
LOCATION:Fitness Class 15+\, 7245 Waelti Dr Suite 3-7\, Melbourne\, FL\, 32940\, United States
END:VEVENT
BEGIN:VEVENT
DTSTART;TZID=America/New_York:20270427T174500
DTEND;TZID=America/New_York:20270427T184500
DTSTAMP:20260426T001017
CREATED:20260217T211527Z
LAST-MODIFIED:20260312T183455Z
UID:10003906-1808847900-1808851500@dsabrevard.org
SUMMARY:Fitness Class 15+ (P.M)
DESCRIPTION:
URL:https://dsabrevard.org/event/fitness-class/2027-04-27/
LOCATION:Fitness Class 15+\, 7245 Waelti Dr Suite 3-7\, Melbourne\, FL\, 32940\, United States
END:VEVENT
BEGIN:VEVENT
DTSTART;TZID=America/New_York:20270504T174500
DTEND;TZID=America/New_York:20270504T184500
DTSTAMP:20260426T001017
CREATED:20260217T211527Z
LAST-MODIFIED:20260312T183455Z
UID:10003907-1809452700-1809456300@dsabrevard.org
SUMMARY:Fitness Class 15+ (P.M)
DESCRIPTION:
URL:https://dsabrevard.org/event/fitness-class/2027-05-04/
LOCATION:Fitness Class 15+\, 7245 Waelti Dr Suite 3-7\, Melbourne\, FL\, 32940\, United States
END:VEVENT
BEGIN:VEVENT
DTSTART;TZID=America/New_York:20270511T174500
DTEND;TZID=America/New_York:20270511T184500
DTSTAMP:20260426T001017
CREATED:20260217T211527Z
LAST-MODIFIED:20260312T183455Z
UID:10003908-1810057500-1810061100@dsabrevard.org
SUMMARY:Fitness Class 15+ (P.M)
DESCRIPTION:
URL:https://dsabrevard.org/event/fitness-class/2027-05-11/
LOCATION:Fitness Class 15+\, 7245 Waelti Dr Suite 3-7\, Melbourne\, FL\, 32940\, United States
END:VEVENT
BEGIN:VEVENT
DTSTART;TZID=America/New_York:20270518T174500
DTEND;TZID=America/New_York:20270518T184500
DTSTAMP:20260426T001017
CREATED:20260217T211527Z
LAST-MODIFIED:20260312T183455Z
UID:10003909-1810662300-1810665900@dsabrevard.org
SUMMARY:Fitness Class 15+ (P.M)
DESCRIPTION:
URL:https://dsabrevard.org/event/fitness-class/2027-05-18/
LOCATION:Fitness Class 15+\, 7245 Waelti Dr Suite 3-7\, Melbourne\, FL\, 32940\, United States
END:VEVENT
BEGIN:VEVENT
DTSTART;TZID=America/New_York:20270525T174500
DTEND;TZID=America/New_York:20270525T184500
DTSTAMP:20260426T001017
CREATED:20260217T211527Z
LAST-MODIFIED:20260312T183455Z
UID:10003910-1811267100-1811270700@dsabrevard.org
SUMMARY:Fitness Class 15+ (P.M)
DESCRIPTION:
URL:https://dsabrevard.org/event/fitness-class/2027-05-25/
LOCATION:Fitness Class 15+\, 7245 Waelti Dr Suite 3-7\, Melbourne\, FL\, 32940\, United States
END:VEVENT
BEGIN:VEVENT
DTSTART;TZID=America/New_York:20270601T174500
DTEND;TZID=America/New_York:20270601T184500
DTSTAMP:20260426T001017
CREATED:20260217T211527Z
LAST-MODIFIED:20260312T183455Z
UID:10003911-1811871900-1811875500@dsabrevard.org
SUMMARY:Fitness Class 15+ (P.M)
DESCRIPTION:
URL:https://dsabrevard.org/event/fitness-class/2027-06-01/
LOCATION:Fitness Class 15+\, 7245 Waelti Dr Suite 3-7\, Melbourne\, FL\, 32940\, United States
END:VEVENT
BEGIN:VEVENT
DTSTART;TZID=America/New_York:20270608T174500
DTEND;TZID=America/New_York:20270608T184500
DTSTAMP:20260426T001017
CREATED:20260217T211527Z
LAST-MODIFIED:20260312T183455Z
UID:10003912-1812476700-1812480300@dsabrevard.org
SUMMARY:Fitness Class 15+ (P.M)
DESCRIPTION:
URL:https://dsabrevard.org/event/fitness-class/2027-06-08/
LOCATION:Fitness Class 15+\, 7245 Waelti Dr Suite 3-7\, Melbourne\, FL\, 32940\, United States
END:VEVENT
BEGIN:VEVENT
DTSTART;TZID=America/New_York:20270615T174500
DTEND;TZID=America/New_York:20270615T184500
DTSTAMP:20260426T001017
CREATED:20260217T211527Z
LAST-MODIFIED:20260312T183455Z
UID:10003913-1813081500-1813085100@dsabrevard.org
SUMMARY:Fitness Class 15+ (P.M)
DESCRIPTION:
URL:https://dsabrevard.org/event/fitness-class/2027-06-15/
LOCATION:Fitness Class 15+\, 7245 Waelti Dr Suite 3-7\, Melbourne\, FL\, 32940\, United States
END:VEVENT
BEGIN:VEVENT
DTSTART;TZID=America/New_York:20270622T174500
DTEND;TZID=America/New_York:20270622T184500
DTSTAMP:20260426T001017
CREATED:20260217T211527Z
LAST-MODIFIED:20260312T183455Z
UID:10003914-1813686300-1813689900@dsabrevard.org
SUMMARY:Fitness Class 15+ (P.M)
DESCRIPTION:
URL:https://dsabrevard.org/event/fitness-class/2027-06-22/
LOCATION:Fitness Class 15+\, 7245 Waelti Dr Suite 3-7\, Melbourne\, FL\, 32940\, United States
END:VEVENT
BEGIN:VEVENT
DTSTART;TZID=America/New_York:20270629T174500
DTEND;TZID=America/New_York:20270629T184500
DTSTAMP:20260426T001017
CREATED:20260217T211527Z
LAST-MODIFIED:20260312T183455Z
UID:10003915-1814291100-1814294700@dsabrevard.org
SUMMARY:Fitness Class 15+ (P.M)
DESCRIPTION:
URL:https://dsabrevard.org/event/fitness-class/2027-06-29/
LOCATION:Fitness Class 15+\, 7245 Waelti Dr Suite 3-7\, Melbourne\, FL\, 32940\, United States
END:VEVENT
BEGIN:VEVENT
DTSTART;TZID=America/New_York:20270706T174500
DTEND;TZID=America/New_York:20270706T184500
DTSTAMP:20260426T001017
CREATED:20260217T211527Z
LAST-MODIFIED:20260312T183455Z
UID:10003916-1814895900-1814899500@dsabrevard.org
SUMMARY:Fitness Class 15+ (P.M)
DESCRIPTION:
URL:https://dsabrevard.org/event/fitness-class/2027-07-06/
LOCATION:Fitness Class 15+\, 7245 Waelti Dr Suite 3-7\, Melbourne\, FL\, 32940\, United States
END:VEVENT
BEGIN:VEVENT
DTSTART;TZID=America/New_York:20270713T174500
DTEND;TZID=America/New_York:20270713T184500
DTSTAMP:20260426T001017
CREATED:20260217T211527Z
LAST-MODIFIED:20260312T183455Z
UID:10003917-1815500700-1815504300@dsabrevard.org
SUMMARY:Fitness Class 15+ (P.M)
DESCRIPTION:
URL:https://dsabrevard.org/event/fitness-class/2027-07-13/
LOCATION:Fitness Class 15+\, 7245 Waelti Dr Suite 3-7\, Melbourne\, FL\, 32940\, United States
END:VEVENT
BEGIN:VEVENT
DTSTART;TZID=America/New_York:20270720T174500
DTEND;TZID=America/New_York:20270720T184500
DTSTAMP:20260426T001017
CREATED:20260217T211527Z
LAST-MODIFIED:20260312T183455Z
UID:10003918-1816105500-1816109100@dsabrevard.org
SUMMARY:Fitness Class 15+ (P.M)
DESCRIPTION:
URL:https://dsabrevard.org/event/fitness-class/2027-07-20/
LOCATION:Fitness Class 15+\, 7245 Waelti Dr Suite 3-7\, Melbourne\, FL\, 32940\, United States
END:VEVENT
BEGIN:VEVENT
DTSTART;TZID=America/New_York:20270727T174500
DTEND;TZID=America/New_York:20270727T184500
DTSTAMP:20260426T001017
CREATED:20260217T211527Z
LAST-MODIFIED:20260312T183455Z
UID:10003919-1816710300-1816713900@dsabrevard.org
SUMMARY:Fitness Class 15+ (P.M)
DESCRIPTION:
URL:https://dsabrevard.org/event/fitness-class/2027-07-27/
LOCATION:Fitness Class 15+\, 7245 Waelti Dr Suite 3-7\, Melbourne\, FL\, 32940\, United States
END:VEVENT
END:VCALENDAR