BEGIN:VCALENDAR
VERSION:2.0
PRODID:-//Down Syndrome Association of Brevard - ECPv6.15.20//NONSGML v1.0//EN
CALSCALE:GREGORIAN
METHOD:PUBLISH
X-WR-CALNAME:Down Syndrome Association of Brevard
X-ORIGINAL-URL:https://dsabrevard.org
X-WR-CALDESC:Events for Down Syndrome Association of Brevard
REFRESH-INTERVAL;VALUE=DURATION:PT1H
X-Robots-Tag:noindex
X-PUBLISHED-TTL:PT1H
BEGIN:VTIMEZONE
TZID:America/New_York
BEGIN:DAYLIGHT
TZOFFSETFROM:-0500
TZOFFSETTO:-0400
TZNAME:EDT
DTSTART:20250309T070000
END:DAYLIGHT
BEGIN:STANDARD
TZOFFSETFROM:-0400
TZOFFSETTO:-0500
TZNAME:EST
DTSTART:20251102T060000
END:STANDARD
BEGIN:DAYLIGHT
TZOFFSETFROM:-0500
TZOFFSETTO:-0400
TZNAME:EDT
DTSTART:20260308T070000
END:DAYLIGHT
BEGIN:STANDARD
TZOFFSETFROM:-0400
TZOFFSETTO:-0500
TZNAME:EST
DTSTART:20261101T060000
END:STANDARD
BEGIN:DAYLIGHT
TZOFFSETFROM:-0500
TZOFFSETTO:-0400
TZNAME:EDT
DTSTART:20270314T070000
END:DAYLIGHT
BEGIN:STANDARD
TZOFFSETFROM:-0400
TZOFFSETTO:-0500
TZNAME:EST
DTSTART:20271107T060000
END:STANDARD
BEGIN:DAYLIGHT
TZOFFSETFROM:-0500
TZOFFSETTO:-0400
TZNAME:EDT
DTSTART:20280312T070000
END:DAYLIGHT
BEGIN:STANDARD
TZOFFSETFROM:-0400
TZOFFSETTO:-0500
TZNAME:EST
DTSTART:20281105T060000
END:STANDARD
END:VTIMEZONE
BEGIN:VEVENT
DTSTART;TZID=America/New_York:20260721T174500
DTEND;TZID=America/New_York:20260721T184500
DTSTAMP:20260425T124446
CREATED:20260217T211527Z
LAST-MODIFIED:20260312T183455Z
UID:10003866-1784655900-1784659500@dsabrevard.org
SUMMARY:Fitness Class 15+ (P.M)
DESCRIPTION:
URL:https://dsabrevard.org/event/fitness-class/2026-07-21/
LOCATION:Fitness Class 15+\, 7245 Waelti Dr Suite 3-7\, Melbourne\, FL\, 32940\, United States
END:VEVENT
BEGIN:VEVENT
DTSTART;TZID=America/New_York:20260728T174500
DTEND;TZID=America/New_York:20260728T184500
DTSTAMP:20260425T124446
CREATED:20260217T211527Z
LAST-MODIFIED:20260312T183455Z
UID:10003867-1785260700-1785264300@dsabrevard.org
SUMMARY:Fitness Class 15+ (P.M)
DESCRIPTION:
URL:https://dsabrevard.org/event/fitness-class/2026-07-28/
LOCATION:Fitness Class 15+\, 7245 Waelti Dr Suite 3-7\, Melbourne\, FL\, 32940\, United States
END:VEVENT
BEGIN:VEVENT
DTSTART;TZID=America/New_York:20260804T174500
DTEND;TZID=America/New_York:20260804T184500
DTSTAMP:20260425T124446
CREATED:20260217T211527Z
LAST-MODIFIED:20260312T183455Z
UID:10003868-1785865500-1785869100@dsabrevard.org
SUMMARY:Fitness Class 15+ (P.M)
DESCRIPTION:
URL:https://dsabrevard.org/event/fitness-class/2026-08-04/
LOCATION:Fitness Class 15+\, 7245 Waelti Dr Suite 3-7\, Melbourne\, FL\, 32940\, United States
END:VEVENT
BEGIN:VEVENT
DTSTART;TZID=America/New_York:20260811T174500
DTEND;TZID=America/New_York:20260811T184500
DTSTAMP:20260425T124446
CREATED:20260217T211527Z
LAST-MODIFIED:20260312T183455Z
UID:10003869-1786470300-1786473900@dsabrevard.org
SUMMARY:Fitness Class 15+ (P.M)
DESCRIPTION:
URL:https://dsabrevard.org/event/fitness-class/2026-08-11/
LOCATION:Fitness Class 15+\, 7245 Waelti Dr Suite 3-7\, Melbourne\, FL\, 32940\, United States
END:VEVENT
BEGIN:VEVENT
DTSTART;TZID=America/New_York:20260818T174500
DTEND;TZID=America/New_York:20260818T184500
DTSTAMP:20260425T124446
CREATED:20260217T211527Z
LAST-MODIFIED:20260312T183455Z
UID:10003870-1787075100-1787078700@dsabrevard.org
SUMMARY:Fitness Class 15+ (P.M)
DESCRIPTION:
URL:https://dsabrevard.org/event/fitness-class/2026-08-18/
LOCATION:Fitness Class 15+\, 7245 Waelti Dr Suite 3-7\, Melbourne\, FL\, 32940\, United States
END:VEVENT
BEGIN:VEVENT
DTSTART;TZID=America/New_York:20260825T174500
DTEND;TZID=America/New_York:20260825T184500
DTSTAMP:20260425T124446
CREATED:20260217T211527Z
LAST-MODIFIED:20260312T183455Z
UID:10003871-1787679900-1787683500@dsabrevard.org
SUMMARY:Fitness Class 15+ (P.M)
DESCRIPTION:
URL:https://dsabrevard.org/event/fitness-class/2026-08-25/
LOCATION:Fitness Class 15+\, 7245 Waelti Dr Suite 3-7\, Melbourne\, FL\, 32940\, United States
END:VEVENT
BEGIN:VEVENT
DTSTART;TZID=America/New_York:20260901T174500
DTEND;TZID=America/New_York:20260901T184500
DTSTAMP:20260425T124446
CREATED:20260217T211527Z
LAST-MODIFIED:20260312T183455Z
UID:10003872-1788284700-1788288300@dsabrevard.org
SUMMARY:Fitness Class 15+ (P.M)
DESCRIPTION:
URL:https://dsabrevard.org/event/fitness-class/2026-09-01/
LOCATION:Fitness Class 15+\, 7245 Waelti Dr Suite 3-7\, Melbourne\, FL\, 32940\, United States
END:VEVENT
BEGIN:VEVENT
DTSTART;TZID=America/New_York:20260908T174500
DTEND;TZID=America/New_York:20260908T184500
DTSTAMP:20260425T124446
CREATED:20260217T211527Z
LAST-MODIFIED:20260312T183455Z
UID:10003873-1788889500-1788893100@dsabrevard.org
SUMMARY:Fitness Class 15+ (P.M)
DESCRIPTION:
URL:https://dsabrevard.org/event/fitness-class/2026-09-08/
LOCATION:Fitness Class 15+\, 7245 Waelti Dr Suite 3-7\, Melbourne\, FL\, 32940\, United States
END:VEVENT
BEGIN:VEVENT
DTSTART;TZID=America/New_York:20260915T174500
DTEND;TZID=America/New_York:20260915T184500
DTSTAMP:20260425T124446
CREATED:20260217T211527Z
LAST-MODIFIED:20260312T183455Z
UID:10003874-1789494300-1789497900@dsabrevard.org
SUMMARY:Fitness Class 15+ (P.M)
DESCRIPTION:
URL:https://dsabrevard.org/event/fitness-class/2026-09-15/
LOCATION:Fitness Class 15+\, 7245 Waelti Dr Suite 3-7\, Melbourne\, FL\, 32940\, United States
END:VEVENT
BEGIN:VEVENT
DTSTART;TZID=America/New_York:20260922T174500
DTEND;TZID=America/New_York:20260922T184500
DTSTAMP:20260425T124446
CREATED:20260217T211527Z
LAST-MODIFIED:20260312T183455Z
UID:10003875-1790099100-1790102700@dsabrevard.org
SUMMARY:Fitness Class 15+ (P.M)
DESCRIPTION:
URL:https://dsabrevard.org/event/fitness-class/2026-09-22/
LOCATION:Fitness Class 15+\, 7245 Waelti Dr Suite 3-7\, Melbourne\, FL\, 32940\, United States
END:VEVENT
BEGIN:VEVENT
DTSTART;TZID=America/New_York:20260929T174500
DTEND;TZID=America/New_York:20260929T184500
DTSTAMP:20260425T124446
CREATED:20260217T211527Z
LAST-MODIFIED:20260312T183455Z
UID:10003876-1790703900-1790707500@dsabrevard.org
SUMMARY:Fitness Class 15+ (P.M)
DESCRIPTION:
URL:https://dsabrevard.org/event/fitness-class/2026-09-29/
LOCATION:Fitness Class 15+\, 7245 Waelti Dr Suite 3-7\, Melbourne\, FL\, 32940\, United States
END:VEVENT
BEGIN:VEVENT
DTSTART;TZID=America/New_York:20261006T174500
DTEND;TZID=America/New_York:20261006T184500
DTSTAMP:20260425T124446
CREATED:20260217T211527Z
LAST-MODIFIED:20260312T183455Z
UID:10003877-1791308700-1791312300@dsabrevard.org
SUMMARY:Fitness Class 15+ (P.M)
DESCRIPTION:
URL:https://dsabrevard.org/event/fitness-class/2026-10-06/
LOCATION:Fitness Class 15+\, 7245 Waelti Dr Suite 3-7\, Melbourne\, FL\, 32940\, United States
END:VEVENT
BEGIN:VEVENT
DTSTART;TZID=America/New_York:20261013T174500
DTEND;TZID=America/New_York:20261013T184500
DTSTAMP:20260425T124446
CREATED:20260217T211527Z
LAST-MODIFIED:20260312T183455Z
UID:10003878-1791913500-1791917100@dsabrevard.org
SUMMARY:Fitness Class 15+ (P.M)
DESCRIPTION:
URL:https://dsabrevard.org/event/fitness-class/2026-10-13/
LOCATION:Fitness Class 15+\, 7245 Waelti Dr Suite 3-7\, Melbourne\, FL\, 32940\, United States
END:VEVENT
BEGIN:VEVENT
DTSTART;TZID=America/New_York:20261020T174500
DTEND;TZID=America/New_York:20261020T184500
DTSTAMP:20260425T124446
CREATED:20260217T211527Z
LAST-MODIFIED:20260312T183455Z
UID:10003879-1792518300-1792521900@dsabrevard.org
SUMMARY:Fitness Class 15+ (P.M)
DESCRIPTION:
URL:https://dsabrevard.org/event/fitness-class/2026-10-20/
LOCATION:Fitness Class 15+\, 7245 Waelti Dr Suite 3-7\, Melbourne\, FL\, 32940\, United States
END:VEVENT
BEGIN:VEVENT
DTSTART;TZID=America/New_York:20261027T174500
DTEND;TZID=America/New_York:20261027T184500
DTSTAMP:20260425T124446
CREATED:20260217T211527Z
LAST-MODIFIED:20260312T183455Z
UID:10003880-1793123100-1793126700@dsabrevard.org
SUMMARY:Fitness Class 15+ (P.M)
DESCRIPTION:
URL:https://dsabrevard.org/event/fitness-class/2026-10-27/
LOCATION:Fitness Class 15+\, 7245 Waelti Dr Suite 3-7\, Melbourne\, FL\, 32940\, United States
END:VEVENT
BEGIN:VEVENT
DTSTART;TZID=America/New_York:20261103T174500
DTEND;TZID=America/New_York:20261103T184500
DTSTAMP:20260425T124446
CREATED:20260217T211527Z
LAST-MODIFIED:20260312T183455Z
UID:10003881-1793727900-1793731500@dsabrevard.org
SUMMARY:Fitness Class 15+ (P.M)
DESCRIPTION:
URL:https://dsabrevard.org/event/fitness-class/2026-11-03/
LOCATION:Fitness Class 15+\, 7245 Waelti Dr Suite 3-7\, Melbourne\, FL\, 32940\, United States
END:VEVENT
BEGIN:VEVENT
DTSTART;TZID=America/New_York:20261110T174500
DTEND;TZID=America/New_York:20261110T184500
DTSTAMP:20260425T124446
CREATED:20260217T211527Z
LAST-MODIFIED:20260312T183455Z
UID:10003882-1794332700-1794336300@dsabrevard.org
SUMMARY:Fitness Class 15+ (P.M)
DESCRIPTION:
URL:https://dsabrevard.org/event/fitness-class/2026-11-10/
LOCATION:Fitness Class 15+\, 7245 Waelti Dr Suite 3-7\, Melbourne\, FL\, 32940\, United States
END:VEVENT
BEGIN:VEVENT
DTSTART;TZID=America/New_York:20261117T174500
DTEND;TZID=America/New_York:20261117T184500
DTSTAMP:20260425T124446
CREATED:20260217T211527Z
LAST-MODIFIED:20260312T183455Z
UID:10003883-1794937500-1794941100@dsabrevard.org
SUMMARY:Fitness Class 15+ (P.M)
DESCRIPTION:
URL:https://dsabrevard.org/event/fitness-class/2026-11-17/
LOCATION:Fitness Class 15+\, 7245 Waelti Dr Suite 3-7\, Melbourne\, FL\, 32940\, United States
END:VEVENT
BEGIN:VEVENT
DTSTART;TZID=America/New_York:20261124T174500
DTEND;TZID=America/New_York:20261124T184500
DTSTAMP:20260425T124446
CREATED:20260217T211527Z
LAST-MODIFIED:20260312T183455Z
UID:10003884-1795542300-1795545900@dsabrevard.org
SUMMARY:Fitness Class 15+ (P.M)
DESCRIPTION:
URL:https://dsabrevard.org/event/fitness-class/2026-11-24/
LOCATION:Fitness Class 15+\, 7245 Waelti Dr Suite 3-7\, Melbourne\, FL\, 32940\, United States
END:VEVENT
BEGIN:VEVENT
DTSTART;TZID=America/New_York:20261201T174500
DTEND;TZID=America/New_York:20261201T184500
DTSTAMP:20260425T124446
CREATED:20260217T211527Z
LAST-MODIFIED:20260312T183455Z
UID:10003885-1796147100-1796150700@dsabrevard.org
SUMMARY:Fitness Class 15+ (P.M)
DESCRIPTION:
URL:https://dsabrevard.org/event/fitness-class/2026-12-01/
LOCATION:Fitness Class 15+\, 7245 Waelti Dr Suite 3-7\, Melbourne\, FL\, 32940\, United States
END:VEVENT
BEGIN:VEVENT
DTSTART;TZID=America/New_York:20261208T174500
DTEND;TZID=America/New_York:20261208T184500
DTSTAMP:20260425T124446
CREATED:20260217T211527Z
LAST-MODIFIED:20260312T183455Z
UID:10003886-1796751900-1796755500@dsabrevard.org
SUMMARY:Fitness Class 15+ (P.M)
DESCRIPTION:
URL:https://dsabrevard.org/event/fitness-class/2026-12-08/
LOCATION:Fitness Class 15+\, 7245 Waelti Dr Suite 3-7\, Melbourne\, FL\, 32940\, United States
END:VEVENT
BEGIN:VEVENT
DTSTART;TZID=America/New_York:20261215T174500
DTEND;TZID=America/New_York:20261215T184500
DTSTAMP:20260425T124446
CREATED:20260217T211527Z
LAST-MODIFIED:20260312T183455Z
UID:10003887-1797356700-1797360300@dsabrevard.org
SUMMARY:Fitness Class 15+ (P.M)
DESCRIPTION:
URL:https://dsabrevard.org/event/fitness-class/2026-12-15/
LOCATION:Fitness Class 15+\, 7245 Waelti Dr Suite 3-7\, Melbourne\, FL\, 32940\, United States
END:VEVENT
BEGIN:VEVENT
DTSTART;TZID=America/New_York:20261222T174500
DTEND;TZID=America/New_York:20261222T184500
DTSTAMP:20260425T124446
CREATED:20260217T211527Z
LAST-MODIFIED:20260312T183455Z
UID:10003888-1797961500-1797965100@dsabrevard.org
SUMMARY:Fitness Class 15+ (P.M)
DESCRIPTION:
URL:https://dsabrevard.org/event/fitness-class/2026-12-22/
LOCATION:Fitness Class 15+\, 7245 Waelti Dr Suite 3-7\, Melbourne\, FL\, 32940\, United States
END:VEVENT
BEGIN:VEVENT
DTSTART;TZID=America/New_York:20261229T174500
DTEND;TZID=America/New_York:20261229T184500
DTSTAMP:20260425T124446
CREATED:20260217T211527Z
LAST-MODIFIED:20260312T183455Z
UID:10003889-1798566300-1798569900@dsabrevard.org
SUMMARY:Fitness Class 15+ (P.M)
DESCRIPTION:
URL:https://dsabrevard.org/event/fitness-class/2026-12-29/
LOCATION:Fitness Class 15+\, 7245 Waelti Dr Suite 3-7\, Melbourne\, FL\, 32940\, United States
END:VEVENT
BEGIN:VEVENT
DTSTART;TZID=America/New_York:20270105T174500
DTEND;TZID=America/New_York:20270105T184500
DTSTAMP:20260425T124446
CREATED:20260217T211527Z
LAST-MODIFIED:20260312T183455Z
UID:10003890-1799171100-1799174700@dsabrevard.org
SUMMARY:Fitness Class 15+ (P.M)
DESCRIPTION:
URL:https://dsabrevard.org/event/fitness-class/2027-01-05/
LOCATION:Fitness Class 15+\, 7245 Waelti Dr Suite 3-7\, Melbourne\, FL\, 32940\, United States
END:VEVENT
BEGIN:VEVENT
DTSTART;TZID=America/New_York:20270112T174500
DTEND;TZID=America/New_York:20270112T184500
DTSTAMP:20260425T124446
CREATED:20260217T211527Z
LAST-MODIFIED:20260312T183455Z
UID:10003891-1799775900-1799779500@dsabrevard.org
SUMMARY:Fitness Class 15+ (P.M)
DESCRIPTION:
URL:https://dsabrevard.org/event/fitness-class/2027-01-12/
LOCATION:Fitness Class 15+\, 7245 Waelti Dr Suite 3-7\, Melbourne\, FL\, 32940\, United States
END:VEVENT
BEGIN:VEVENT
DTSTART;TZID=America/New_York:20270119T174500
DTEND;TZID=America/New_York:20270119T184500
DTSTAMP:20260425T124446
CREATED:20260217T211527Z
LAST-MODIFIED:20260312T183455Z
UID:10003892-1800380700-1800384300@dsabrevard.org
SUMMARY:Fitness Class 15+ (P.M)
DESCRIPTION:
URL:https://dsabrevard.org/event/fitness-class/2027-01-19/
LOCATION:Fitness Class 15+\, 7245 Waelti Dr Suite 3-7\, Melbourne\, FL\, 32940\, United States
END:VEVENT
BEGIN:VEVENT
DTSTART;TZID=America/New_York:20270126T174500
DTEND;TZID=America/New_York:20270126T184500
DTSTAMP:20260425T124446
CREATED:20260217T211527Z
LAST-MODIFIED:20260312T183455Z
UID:10003893-1800985500-1800989100@dsabrevard.org
SUMMARY:Fitness Class 15+ (P.M)
DESCRIPTION:
URL:https://dsabrevard.org/event/fitness-class/2027-01-26/
LOCATION:Fitness Class 15+\, 7245 Waelti Dr Suite 3-7\, Melbourne\, FL\, 32940\, United States
END:VEVENT
BEGIN:VEVENT
DTSTART;TZID=America/New_York:20270202T174500
DTEND;TZID=America/New_York:20270202T184500
DTSTAMP:20260425T124446
CREATED:20260217T211527Z
LAST-MODIFIED:20260312T183455Z
UID:10003894-1801590300-1801593900@dsabrevard.org
SUMMARY:Fitness Class 15+ (P.M)
DESCRIPTION:
URL:https://dsabrevard.org/event/fitness-class/2027-02-02/
LOCATION:Fitness Class 15+\, 7245 Waelti Dr Suite 3-7\, Melbourne\, FL\, 32940\, United States
END:VEVENT
BEGIN:VEVENT
DTSTART;TZID=America/New_York:20270209T174500
DTEND;TZID=America/New_York:20270209T184500
DTSTAMP:20260425T124446
CREATED:20260217T211527Z
LAST-MODIFIED:20260312T183455Z
UID:10003895-1802195100-1802198700@dsabrevard.org
SUMMARY:Fitness Class 15+ (P.M)
DESCRIPTION:
URL:https://dsabrevard.org/event/fitness-class/2027-02-09/
LOCATION:Fitness Class 15+\, 7245 Waelti Dr Suite 3-7\, Melbourne\, FL\, 32940\, United States
END:VEVENT
END:VCALENDAR