BEGIN:VCALENDAR
VERSION:2.0
PRODID:-//Down Syndrome Association of Brevard - ECPv6.15.20//NONSGML v1.0//EN
CALSCALE:GREGORIAN
METHOD:PUBLISH
X-ORIGINAL-URL:https://dsabrevard.org
X-WR-CALDESC:Events for Down Syndrome Association of Brevard
REFRESH-INTERVAL;VALUE=DURATION:PT1H
X-Robots-Tag:noindex
X-PUBLISHED-TTL:PT1H
BEGIN:VTIMEZONE
TZID:America/New_York
BEGIN:DAYLIGHT
TZOFFSETFROM:-0500
TZOFFSETTO:-0400
TZNAME:EDT
DTSTART:20270314T070000
END:DAYLIGHT
BEGIN:STANDARD
TZOFFSETFROM:-0400
TZOFFSETTO:-0500
TZNAME:EST
DTSTART:20271107T060000
END:STANDARD
BEGIN:DAYLIGHT
TZOFFSETFROM:-0500
TZOFFSETTO:-0400
TZNAME:EDT
DTSTART:20280312T070000
END:DAYLIGHT
BEGIN:STANDARD
TZOFFSETFROM:-0400
TZOFFSETTO:-0500
TZNAME:EST
DTSTART:20281105T060000
END:STANDARD
BEGIN:DAYLIGHT
TZOFFSETFROM:-0500
TZOFFSETTO:-0400
TZNAME:EDT
DTSTART:20290311T070000
END:DAYLIGHT
BEGIN:STANDARD
TZOFFSETFROM:-0400
TZOFFSETTO:-0500
TZNAME:EST
DTSTART:20291104T060000
END:STANDARD
END:VTIMEZONE
BEGIN:VEVENT
DTSTART;TZID=America/New_York:20280524T104500
DTEND;TZID=America/New_York:20280524T114500
DTSTAMP:20260425T094450
CREATED:20240110T164542Z
LAST-MODIFIED:20260312T183613Z
UID:10002469-1842777900-1842781500@dsabrevard.org
SUMMARY:Fitness Class 15+ (A.M)
DESCRIPTION:
URL:https://dsabrevard.org/event/adult-fitness-class/2028-05-24/
LOCATION:Trinity Fitness Suntree\, 7245 Waelti Dr Suite 3-7\, Melbourne\, FL\, 32940\, United States
END:VEVENT
BEGIN:VEVENT
DTSTART;TZID=America/New_York:20280531T104500
DTEND;TZID=America/New_York:20280531T114500
DTSTAMP:20260425T094450
CREATED:20240110T164542Z
LAST-MODIFIED:20260312T183613Z
UID:10002470-1843382700-1843386300@dsabrevard.org
SUMMARY:Fitness Class 15+ (A.M)
DESCRIPTION:
URL:https://dsabrevard.org/event/adult-fitness-class/2028-05-31/
LOCATION:Trinity Fitness Suntree\, 7245 Waelti Dr Suite 3-7\, Melbourne\, FL\, 32940\, United States
END:VEVENT
BEGIN:VEVENT
DTSTART;TZID=America/New_York:20280607T104500
DTEND;TZID=America/New_York:20280607T114500
DTSTAMP:20260425T094450
CREATED:20240110T164542Z
LAST-MODIFIED:20260312T183613Z
UID:10002471-1843987500-1843991100@dsabrevard.org
SUMMARY:Fitness Class 15+ (A.M)
DESCRIPTION:
URL:https://dsabrevard.org/event/adult-fitness-class/2028-06-07/
LOCATION:Trinity Fitness Suntree\, 7245 Waelti Dr Suite 3-7\, Melbourne\, FL\, 32940\, United States
END:VEVENT
BEGIN:VEVENT
DTSTART;TZID=America/New_York:20280614T104500
DTEND;TZID=America/New_York:20280614T114500
DTSTAMP:20260425T094451
CREATED:20240110T164542Z
LAST-MODIFIED:20260312T183613Z
UID:10002472-1844592300-1844595900@dsabrevard.org
SUMMARY:Fitness Class 15+ (A.M)
DESCRIPTION:
URL:https://dsabrevard.org/event/adult-fitness-class/2028-06-14/
LOCATION:Trinity Fitness Suntree\, 7245 Waelti Dr Suite 3-7\, Melbourne\, FL\, 32940\, United States
END:VEVENT
BEGIN:VEVENT
DTSTART;TZID=America/New_York:20280621T104500
DTEND;TZID=America/New_York:20280621T114500
DTSTAMP:20260425T094451
CREATED:20240110T164542Z
LAST-MODIFIED:20260312T183613Z
UID:10002473-1845197100-1845200700@dsabrevard.org
SUMMARY:Fitness Class 15+ (A.M)
DESCRIPTION:
URL:https://dsabrevard.org/event/adult-fitness-class/2028-06-21/
LOCATION:Trinity Fitness Suntree\, 7245 Waelti Dr Suite 3-7\, Melbourne\, FL\, 32940\, United States
END:VEVENT
BEGIN:VEVENT
DTSTART;TZID=America/New_York:20280628T104500
DTEND;TZID=America/New_York:20280628T114500
DTSTAMP:20260425T094451
CREATED:20240110T164542Z
LAST-MODIFIED:20260312T183613Z
UID:10002474-1845801900-1845805500@dsabrevard.org
SUMMARY:Fitness Class 15+ (A.M)
DESCRIPTION:
URL:https://dsabrevard.org/event/adult-fitness-class/2028-06-28/
LOCATION:Trinity Fitness Suntree\, 7245 Waelti Dr Suite 3-7\, Melbourne\, FL\, 32940\, United States
END:VEVENT
BEGIN:VEVENT
DTSTART;TZID=America/New_York:20280705T104500
DTEND;TZID=America/New_York:20280705T114500
DTSTAMP:20260425T094451
CREATED:20240110T164542Z
LAST-MODIFIED:20260312T183613Z
UID:10002475-1846406700-1846410300@dsabrevard.org
SUMMARY:Fitness Class 15+ (A.M)
DESCRIPTION:
URL:https://dsabrevard.org/event/adult-fitness-class/2028-07-05/
LOCATION:Trinity Fitness Suntree\, 7245 Waelti Dr Suite 3-7\, Melbourne\, FL\, 32940\, United States
END:VEVENT
BEGIN:VEVENT
DTSTART;TZID=America/New_York:20280712T104500
DTEND;TZID=America/New_York:20280712T114500
DTSTAMP:20260425T094451
CREATED:20240110T164542Z
LAST-MODIFIED:20260312T183613Z
UID:10002476-1847011500-1847015100@dsabrevard.org
SUMMARY:Fitness Class 15+ (A.M)
DESCRIPTION:
URL:https://dsabrevard.org/event/adult-fitness-class/2028-07-12/
LOCATION:Trinity Fitness Suntree\, 7245 Waelti Dr Suite 3-7\, Melbourne\, FL\, 32940\, United States
END:VEVENT
BEGIN:VEVENT
DTSTART;TZID=America/New_York:20280719T104500
DTEND;TZID=America/New_York:20280719T114500
DTSTAMP:20260425T094451
CREATED:20240110T164542Z
LAST-MODIFIED:20260312T183613Z
UID:10002477-1847616300-1847619900@dsabrevard.org
SUMMARY:Fitness Class 15+ (A.M)
DESCRIPTION:
URL:https://dsabrevard.org/event/adult-fitness-class/2028-07-19/
LOCATION:Trinity Fitness Suntree\, 7245 Waelti Dr Suite 3-7\, Melbourne\, FL\, 32940\, United States
END:VEVENT
BEGIN:VEVENT
DTSTART;TZID=America/New_York:20280726T104500
DTEND;TZID=America/New_York:20280726T114500
DTSTAMP:20260425T094451
CREATED:20240110T164542Z
LAST-MODIFIED:20260312T183613Z
UID:10002478-1848221100-1848224700@dsabrevard.org
SUMMARY:Fitness Class 15+ (A.M)
DESCRIPTION:
URL:https://dsabrevard.org/event/adult-fitness-class/2028-07-26/
LOCATION:Trinity Fitness Suntree\, 7245 Waelti Dr Suite 3-7\, Melbourne\, FL\, 32940\, United States
END:VEVENT
BEGIN:VEVENT
DTSTART;TZID=America/New_York:20280802T104500
DTEND;TZID=America/New_York:20280802T114500
DTSTAMP:20260425T094451
CREATED:20240110T164542Z
LAST-MODIFIED:20260312T183613Z
UID:10002479-1848825900-1848829500@dsabrevard.org
SUMMARY:Fitness Class 15+ (A.M)
DESCRIPTION:
URL:https://dsabrevard.org/event/adult-fitness-class/2028-08-02/
LOCATION:Trinity Fitness Suntree\, 7245 Waelti Dr Suite 3-7\, Melbourne\, FL\, 32940\, United States
END:VEVENT
BEGIN:VEVENT
DTSTART;TZID=America/New_York:20280809T104500
DTEND;TZID=America/New_York:20280809T114500
DTSTAMP:20260425T094451
CREATED:20240110T164542Z
LAST-MODIFIED:20260312T183613Z
UID:10002480-1849430700-1849434300@dsabrevard.org
SUMMARY:Fitness Class 15+ (A.M)
DESCRIPTION:
URL:https://dsabrevard.org/event/adult-fitness-class/2028-08-09/
LOCATION:Trinity Fitness Suntree\, 7245 Waelti Dr Suite 3-7\, Melbourne\, FL\, 32940\, United States
END:VEVENT
BEGIN:VEVENT
DTSTART;TZID=America/New_York:20280816T104500
DTEND;TZID=America/New_York:20280816T114500
DTSTAMP:20260425T094451
CREATED:20240110T164542Z
LAST-MODIFIED:20260312T183613Z
UID:10002481-1850035500-1850039100@dsabrevard.org
SUMMARY:Fitness Class 15+ (A.M)
DESCRIPTION:
URL:https://dsabrevard.org/event/adult-fitness-class/2028-08-16/
LOCATION:Trinity Fitness Suntree\, 7245 Waelti Dr Suite 3-7\, Melbourne\, FL\, 32940\, United States
END:VEVENT
BEGIN:VEVENT
DTSTART;TZID=America/New_York:20280823T104500
DTEND;TZID=America/New_York:20280823T114500
DTSTAMP:20260425T094451
CREATED:20240110T164542Z
LAST-MODIFIED:20260312T183613Z
UID:10002482-1850640300-1850643900@dsabrevard.org
SUMMARY:Fitness Class 15+ (A.M)
DESCRIPTION:
URL:https://dsabrevard.org/event/adult-fitness-class/2028-08-23/
LOCATION:Trinity Fitness Suntree\, 7245 Waelti Dr Suite 3-7\, Melbourne\, FL\, 32940\, United States
END:VEVENT
BEGIN:VEVENT
DTSTART;TZID=America/New_York:20280830T104500
DTEND;TZID=America/New_York:20280830T114500
DTSTAMP:20260425T094451
CREATED:20240110T164542Z
LAST-MODIFIED:20260312T183613Z
UID:10002483-1851245100-1851248700@dsabrevard.org
SUMMARY:Fitness Class 15+ (A.M)
DESCRIPTION:
URL:https://dsabrevard.org/event/adult-fitness-class/2028-08-30/
LOCATION:Trinity Fitness Suntree\, 7245 Waelti Dr Suite 3-7\, Melbourne\, FL\, 32940\, United States
END:VEVENT
BEGIN:VEVENT
DTSTART;TZID=America/New_York:20280906T104500
DTEND;TZID=America/New_York:20280906T114500
DTSTAMP:20260425T094451
CREATED:20240110T164542Z
LAST-MODIFIED:20260312T183613Z
UID:10002484-1851849900-1851853500@dsabrevard.org
SUMMARY:Fitness Class 15+ (A.M)
DESCRIPTION:
URL:https://dsabrevard.org/event/adult-fitness-class/2028-09-06/
LOCATION:Trinity Fitness Suntree\, 7245 Waelti Dr Suite 3-7\, Melbourne\, FL\, 32940\, United States
END:VEVENT
BEGIN:VEVENT
DTSTART;TZID=America/New_York:20280913T104500
DTEND;TZID=America/New_York:20280913T114500
DTSTAMP:20260425T094451
CREATED:20240110T164542Z
LAST-MODIFIED:20260312T183613Z
UID:10002485-1852454700-1852458300@dsabrevard.org
SUMMARY:Fitness Class 15+ (A.M)
DESCRIPTION:
URL:https://dsabrevard.org/event/adult-fitness-class/2028-09-13/
LOCATION:Trinity Fitness Suntree\, 7245 Waelti Dr Suite 3-7\, Melbourne\, FL\, 32940\, United States
END:VEVENT
BEGIN:VEVENT
DTSTART;TZID=America/New_York:20280920T104500
DTEND;TZID=America/New_York:20280920T114500
DTSTAMP:20260425T094451
CREATED:20240110T164542Z
LAST-MODIFIED:20260312T183613Z
UID:10002486-1853059500-1853063100@dsabrevard.org
SUMMARY:Fitness Class 15+ (A.M)
DESCRIPTION:
URL:https://dsabrevard.org/event/adult-fitness-class/2028-09-20/
LOCATION:Trinity Fitness Suntree\, 7245 Waelti Dr Suite 3-7\, Melbourne\, FL\, 32940\, United States
END:VEVENT
BEGIN:VEVENT
DTSTART;TZID=America/New_York:20280927T104500
DTEND;TZID=America/New_York:20280927T114500
DTSTAMP:20260425T094451
CREATED:20240110T164542Z
LAST-MODIFIED:20260312T183613Z
UID:10002487-1853664300-1853667900@dsabrevard.org
SUMMARY:Fitness Class 15+ (A.M)
DESCRIPTION:
URL:https://dsabrevard.org/event/adult-fitness-class/2028-09-27/
LOCATION:Trinity Fitness Suntree\, 7245 Waelti Dr Suite 3-7\, Melbourne\, FL\, 32940\, United States
END:VEVENT
BEGIN:VEVENT
DTSTART;TZID=America/New_York:20281004T104500
DTEND;TZID=America/New_York:20281004T114500
DTSTAMP:20260425T094451
CREATED:20240110T164542Z
LAST-MODIFIED:20260312T183613Z
UID:10002488-1854269100-1854272700@dsabrevard.org
SUMMARY:Fitness Class 15+ (A.M)
DESCRIPTION:
URL:https://dsabrevard.org/event/adult-fitness-class/2028-10-04/
LOCATION:Trinity Fitness Suntree\, 7245 Waelti Dr Suite 3-7\, Melbourne\, FL\, 32940\, United States
END:VEVENT
BEGIN:VEVENT
DTSTART;TZID=America/New_York:20281011T104500
DTEND;TZID=America/New_York:20281011T114500
DTSTAMP:20260425T094451
CREATED:20240110T164542Z
LAST-MODIFIED:20260312T183613Z
UID:10002489-1854873900-1854877500@dsabrevard.org
SUMMARY:Fitness Class 15+ (A.M)
DESCRIPTION:
URL:https://dsabrevard.org/event/adult-fitness-class/2028-10-11/
LOCATION:Trinity Fitness Suntree\, 7245 Waelti Dr Suite 3-7\, Melbourne\, FL\, 32940\, United States
END:VEVENT
BEGIN:VEVENT
DTSTART;TZID=America/New_York:20281018T104500
DTEND;TZID=America/New_York:20281018T114500
DTSTAMP:20260425T094451
CREATED:20240110T164542Z
LAST-MODIFIED:20260312T183613Z
UID:10002490-1855478700-1855482300@dsabrevard.org
SUMMARY:Fitness Class 15+ (A.M)
DESCRIPTION:
URL:https://dsabrevard.org/event/adult-fitness-class/2028-10-18/
LOCATION:Trinity Fitness Suntree\, 7245 Waelti Dr Suite 3-7\, Melbourne\, FL\, 32940\, United States
END:VEVENT
BEGIN:VEVENT
DTSTART;TZID=America/New_York:20281025T104500
DTEND;TZID=America/New_York:20281025T114500
DTSTAMP:20260425T094451
CREATED:20240110T164542Z
LAST-MODIFIED:20260312T183613Z
UID:10002491-1856083500-1856087100@dsabrevard.org
SUMMARY:Fitness Class 15+ (A.M)
DESCRIPTION:
URL:https://dsabrevard.org/event/adult-fitness-class/2028-10-25/
LOCATION:Trinity Fitness Suntree\, 7245 Waelti Dr Suite 3-7\, Melbourne\, FL\, 32940\, United States
END:VEVENT
BEGIN:VEVENT
DTSTART;TZID=America/New_York:20281101T104500
DTEND;TZID=America/New_York:20281101T114500
DTSTAMP:20260425T094451
CREATED:20240110T164542Z
LAST-MODIFIED:20260312T183613Z
UID:10002492-1856688300-1856691900@dsabrevard.org
SUMMARY:Fitness Class 15+ (A.M)
DESCRIPTION:
URL:https://dsabrevard.org/event/adult-fitness-class/2028-11-01/
LOCATION:Trinity Fitness Suntree\, 7245 Waelti Dr Suite 3-7\, Melbourne\, FL\, 32940\, United States
END:VEVENT
BEGIN:VEVENT
DTSTART;TZID=America/New_York:20281108T104500
DTEND;TZID=America/New_York:20281108T114500
DTSTAMP:20260425T094451
CREATED:20240110T164542Z
LAST-MODIFIED:20260312T183613Z
UID:10002493-1857293100-1857296700@dsabrevard.org
SUMMARY:Fitness Class 15+ (A.M)
DESCRIPTION:
URL:https://dsabrevard.org/event/adult-fitness-class/2028-11-08/
LOCATION:Trinity Fitness Suntree\, 7245 Waelti Dr Suite 3-7\, Melbourne\, FL\, 32940\, United States
END:VEVENT
BEGIN:VEVENT
DTSTART;TZID=America/New_York:20281115T104500
DTEND;TZID=America/New_York:20281115T114500
DTSTAMP:20260425T094451
CREATED:20240110T164542Z
LAST-MODIFIED:20260312T183613Z
UID:10002494-1857897900-1857901500@dsabrevard.org
SUMMARY:Fitness Class 15+ (A.M)
DESCRIPTION:
URL:https://dsabrevard.org/event/adult-fitness-class/2028-11-15/
LOCATION:Trinity Fitness Suntree\, 7245 Waelti Dr Suite 3-7\, Melbourne\, FL\, 32940\, United States
END:VEVENT
BEGIN:VEVENT
DTSTART;TZID=America/New_York:20281122T104500
DTEND;TZID=America/New_York:20281122T114500
DTSTAMP:20260425T094451
CREATED:20240110T164542Z
LAST-MODIFIED:20260312T183613Z
UID:10002495-1858502700-1858506300@dsabrevard.org
SUMMARY:Fitness Class 15+ (A.M)
DESCRIPTION:
URL:https://dsabrevard.org/event/adult-fitness-class/2028-11-22/
LOCATION:Trinity Fitness Suntree\, 7245 Waelti Dr Suite 3-7\, Melbourne\, FL\, 32940\, United States
END:VEVENT
BEGIN:VEVENT
DTSTART;TZID=America/New_York:20281129T104500
DTEND;TZID=America/New_York:20281129T114500
DTSTAMP:20260425T094451
CREATED:20240110T164542Z
LAST-MODIFIED:20260312T183613Z
UID:10002496-1859107500-1859111100@dsabrevard.org
SUMMARY:Fitness Class 15+ (A.M)
DESCRIPTION:
URL:https://dsabrevard.org/event/adult-fitness-class/2028-11-29/
LOCATION:Trinity Fitness Suntree\, 7245 Waelti Dr Suite 3-7\, Melbourne\, FL\, 32940\, United States
END:VEVENT
BEGIN:VEVENT
DTSTART;TZID=America/New_York:20281206T104500
DTEND;TZID=America/New_York:20281206T114500
DTSTAMP:20260425T094451
CREATED:20240110T164542Z
LAST-MODIFIED:20260312T183613Z
UID:10002497-1859712300-1859715900@dsabrevard.org
SUMMARY:Fitness Class 15+ (A.M)
DESCRIPTION:
URL:https://dsabrevard.org/event/adult-fitness-class/2028-12-06/
LOCATION:Trinity Fitness Suntree\, 7245 Waelti Dr Suite 3-7\, Melbourne\, FL\, 32940\, United States
END:VEVENT
BEGIN:VEVENT
DTSTART;TZID=America/New_York:20281213T104500
DTEND;TZID=America/New_York:20281213T114500
DTSTAMP:20260425T094451
CREATED:20240110T164542Z
LAST-MODIFIED:20260312T183613Z
UID:10002498-1860317100-1860320700@dsabrevard.org
SUMMARY:Fitness Class 15+ (A.M)
DESCRIPTION:
URL:https://dsabrevard.org/event/adult-fitness-class/2028-12-13/
LOCATION:Trinity Fitness Suntree\, 7245 Waelti Dr Suite 3-7\, Melbourne\, FL\, 32940\, United States
END:VEVENT
END:VCALENDAR