BEGIN:VCALENDAR
VERSION:2.0
PRODID:-//Down Syndrome Association of Brevard - ECPv6.15.20//NONSGML v1.0//EN
CALSCALE:GREGORIAN
METHOD:PUBLISH
X-WR-CALNAME:Down Syndrome Association of Brevard
X-ORIGINAL-URL:https://dsabrevard.org
X-WR-CALDESC:Events for Down Syndrome Association of Brevard
REFRESH-INTERVAL;VALUE=DURATION:PT1H
X-Robots-Tag:noindex
X-PUBLISHED-TTL:PT1H
BEGIN:VTIMEZONE
TZID:America/New_York
BEGIN:DAYLIGHT
TZOFFSETFROM:-0500
TZOFFSETTO:-0400
TZNAME:EDT
DTSTART:20240310T070000
END:DAYLIGHT
BEGIN:STANDARD
TZOFFSETFROM:-0400
TZOFFSETTO:-0500
TZNAME:EST
DTSTART:20241103T060000
END:STANDARD
BEGIN:DAYLIGHT
TZOFFSETFROM:-0500
TZOFFSETTO:-0400
TZNAME:EDT
DTSTART:20250309T070000
END:DAYLIGHT
BEGIN:STANDARD
TZOFFSETFROM:-0400
TZOFFSETTO:-0500
TZNAME:EST
DTSTART:20251102T060000
END:STANDARD
BEGIN:DAYLIGHT
TZOFFSETFROM:-0500
TZOFFSETTO:-0400
TZNAME:EDT
DTSTART:20260308T070000
END:DAYLIGHT
BEGIN:STANDARD
TZOFFSETFROM:-0400
TZOFFSETTO:-0500
TZNAME:EST
DTSTART:20261101T060000
END:STANDARD
END:VTIMEZONE
BEGIN:VEVENT
DTSTART;TZID=America/New_York:20251105T104500
DTEND;TZID=America/New_York:20251105T114500
DTSTAMP:20260423T073632
CREATED:20240110T164542Z
LAST-MODIFIED:20260312T183613Z
UID:10002336-1762339500-1762343100@dsabrevard.org
SUMMARY:Fitness Class 15+ (A.M)
DESCRIPTION:
URL:https://dsabrevard.org/event/adult-fitness-class/2025-11-05/
LOCATION:Trinity Fitness Suntree\, 7245 Waelti Dr Suite 3-7\, Melbourne\, FL\, 32940\, United States
END:VEVENT
BEGIN:VEVENT
DTSTART;TZID=America/New_York:20251105T170000
DTEND;TZID=America/New_York:20251105T174500
DTSTAMP:20260423T073633
CREATED:20250104T185017Z
LAST-MODIFIED:20250929T115641Z
UID:10003280-1762362000-1762364700@dsabrevard.org
SUMMARY:Leaps and Sounds ages 5-10
DESCRIPTION:A music therapy group for all incorporating music and movement! This class is open to siblings
URL:https://dsabrevard.org/event/leaps-and-sounds-ages-5-10/2025-11-05/
LOCATION:Florida Music Therapy Center\, 1906 Platt Street\, Melbourne\, 32901\, United States
END:VEVENT
BEGIN:VEVENT
DTSTART;TZID=America/New_York:20251108T090000
DTEND;TZID=America/New_York:20251108T123000
DTSTAMP:20260423T073633
CREATED:20251001T191052Z
LAST-MODIFIED:20251001T191052Z
UID:10003637-1762592400-1762605000@dsabrevard.org
SUMMARY:Brevard Buddy Walk®
DESCRIPTION:
URL:https://dsabrevard.org/event/brevard-buddy-walk/
LOCATION:Calvary Chapel of Viera\, 2852 Fellowship Place\, Melbourne\, FL\, 32940\, United States
END:VEVENT
BEGIN:VEVENT
DTSTART;TZID=America/New_York:20251112T104500
DTEND;TZID=America/New_York:20251112T114500
DTSTAMP:20260423T073633
CREATED:20240110T164542Z
LAST-MODIFIED:20260312T183613Z
UID:10002337-1762944300-1762947900@dsabrevard.org
SUMMARY:Fitness Class 15+ (A.M)
DESCRIPTION:
URL:https://dsabrevard.org/event/adult-fitness-class/2025-11-12/
LOCATION:Trinity Fitness Suntree\, 7245 Waelti Dr Suite 3-7\, Melbourne\, FL\, 32940\, United States
END:VEVENT
BEGIN:VEVENT
DTSTART;TZID=America/New_York:20251119T104500
DTEND;TZID=America/New_York:20251119T114500
DTSTAMP:20260423T073633
CREATED:20240110T164542Z
LAST-MODIFIED:20260312T183613Z
UID:10002338-1763549100-1763552700@dsabrevard.org
SUMMARY:Fitness Class 15+ (A.M)
DESCRIPTION:
URL:https://dsabrevard.org/event/adult-fitness-class/2025-11-19/
LOCATION:Trinity Fitness Suntree\, 7245 Waelti Dr Suite 3-7\, Melbourne\, FL\, 32940\, United States
END:VEVENT
BEGIN:VEVENT
DTSTART;TZID=America/New_York:20251120T183000
DTEND;TZID=America/New_York:20251120T200000
DTSTAMP:20260423T073633
CREATED:20250715T190845Z
LAST-MODIFIED:20260213T174500Z
UID:10000334-1763663400-1763668800@dsabrevard.org
SUMMARY:Club DSAB Teen/Adult Social ages 15+
DESCRIPTION:
URL:https://dsabrevard.org/event/teen-adult-social-3-2-2/2025-11-20/
LOCATION:Suntree United Methodist Church\, 7400 N Wickham Rd\, Melbourne\, FL\, 32940\, United States
END:VEVENT
BEGIN:VEVENT
DTSTART;TZID=America/New_York:20251126T104500
DTEND;TZID=America/New_York:20251126T114500
DTSTAMP:20260423T073633
CREATED:20240110T164542Z
LAST-MODIFIED:20260312T183613Z
UID:10002339-1764153900-1764157500@dsabrevard.org
SUMMARY:Fitness Class 15+ (A.M)
DESCRIPTION:
URL:https://dsabrevard.org/event/adult-fitness-class/2025-11-26/
LOCATION:Trinity Fitness Suntree\, 7245 Waelti Dr Suite 3-7\, Melbourne\, FL\, 32940\, United States
END:VEVENT
END:VCALENDAR